BEGIN:VCALENDAR
VERSION:2.0
CALSCALE:GREGORIAN
PRODID:adamgibbons/ics
METHOD:PUBLISH
X-PUBLISHED-TTL:PT1H
BEGIN:VEVENT
UID:178@agenda.subterrania.es
SUMMARY:And The Sunset Burns + Snaizer
DTSTAMP:20260422T161547Z
DTSTART:20260510T180000Z
DESCRIPTION:And The Sunset Burns es una banda de rock y post-punk anglo-his
	pana formada en\nLondres\, conocida por un sonido crudo\, minimalista y ca
	rgado de melancolía\nintensa. El grupo está liderado por los amigos de la 
	infancia Danny (voz y\nguitarra) e Isma (bajo). \n\nLa banda se encuentra 
	actualmente presentando su primera gira por España\,\npromocionando los si
	ngles de su próximo álbum debut.\n\nSnaizer es una banda nacida en Santand
	er el 17 de septiembre de 2023\, creada por\nMarcos Pulgar\, Martin Castañ
	eda y Erik Riquelme. Empezaron tocando covers de\nbandas como Nirvana o Me
	tallica.\n\nEl 23 de noviembre se unió el primer cantante de la banda\, Jo
	seba Camba\, el cual\ndejaría la banda en octubre del 24. En marzo del 24 
	se unió Marco Poveda\, el\nguitarrista rítmico y el 23 de abril dieron su 
	primer concierto en el Instituto\nde Los Agustinos. \n\nTras la salida de 
	Joseba\, entró la actual cantante\, Cecilia de Diego\, y hasta la\nfecha e
	stán tocando covers y componiendo temas.\n\nTaquilla: 5€
URL:https://agenda.subterrania.es/event/and-the-sunset-burns-snaizer
LOCATION:Rock Beer The New - C. Peñas Redondas 15\, Santander
STATUS:CONFIRMED
CATEGORIES:conciertos,santander,escena local,rock,conciertosCantabria,post-
	punk
X-ALT-DESC;FMTTYPE=text/html:<p><strong>And The Sunset Burns </strong>es un
	a banda de rock y post-punk anglo-hispana formada en Londres, conocida por
	 un sonido crudo, minimalista y cargado de melancolía intensa. El grupo es
	tá liderado por los amigos de la infancia Danny (voz y guitarra) e Isma (b
	ajo).&nbsp;</p><p>La banda se encuentra actualmente presentando su primera
	 gira por España, promocionando los singles de su próximo álbum debut.</p>
	<p><strong>Snaizer</strong> es una banda nacida en Santander el 17 de sept
	iembre de 2023, creada por Marcos Pulgar, Martin Castañeda y Erik Riquelme
	. Empezaron tocando covers de bandas como Nirvana o Metallica.</p><p>El 23
	 de noviembre se unió el primer cantante de la banda, Joseba Camba, el cua
	l dejaría la banda en octubre del 24. En marzo del 24 se unió Marco Poveda
	, el guitarrista rítmico y el 23 de abril dieron su primer concierto en el
	 Instituto de Los Agustinos.&nbsp;</p><p>Tras la salida de Joseba, entró l
	a actual cantante, Cecilia de Diego, y hasta la fecha están tocando covers
	 y componiendo temas.</p><p><strong>Taquilla:</strong> 5€</p>
BEGIN:VALARM
ACTION:DISPLAY
DESCRIPTION:And The Sunset Burns + Snaizer
TRIGGER:-PT1H
END:VALARM
END:VEVENT
END:VCALENDAR
