BEGIN:VCALENDAR
VERSION:2.0
CALSCALE:GREGORIAN
PRODID:adamgibbons/ics
METHOD:PUBLISH
X-PUBLISHED-TTL:PT1H
BEGIN:VEVENT
UID:177@agenda.subterrania.es
SUMMARY:Amaia Miranda
DTSTAMP:20260424T145855Z
DTSTART:20260424T193000Z
URL:https://agenda.subterrania.es/event/amaia-miranda
LOCATION:Centro Cultural Eureka - C. San Simón\, 8\, 39003 Santander
STATUS:CONFIRMED
CATEGORIES:conciertos,conciertosCantabria,folk,pop,santander
END:VEVENT
BEGIN:VEVENT
UID:166@agenda.subterrania.es
SUMMARY:Marina Fages
DTSTAMP:20260424T145855Z
DTSTART:20260427T190000Z
URL:https://agenda.subterrania.es/event/marina-fages
LOCATION:Rock Beer The New - C. Peñas Redondas 15\, Santander
STATUS:CONFIRMED
CATEGORIES:Hardcore,conciertos,conciertosCantabria,punk,rock,santander
END:VEVENT
BEGIN:VEVENT
UID:135@agenda.subterrania.es
SUMMARY:Ona Mafalda
DTSTAMP:20260424T145855Z
DTSTART:20260508T183000Z
DTEND:20260508T200000Z
URL:https://agenda.subterrania.es/event/ona-mafalda
LOCATION:Café de Las Artes Teatro - C/ Juan A. Gutiérrez de la Concha 4 (an
	tes García Morato)
STATUS:CONFIRMED
CATEGORIES:conciertosCantabria,indie,pop,santander
END:VEVENT
BEGIN:VEVENT
UID:146@agenda.subterrania.es
SUMMARY:Medussa + Agujero + Bañaperros: XV Aniversario Producciones Tudanca
	s
DTSTAMP:20260424T145855Z
DTSTART:20260508T183000Z
URL:https://agenda.subterrania.es/event/medussa-agujero-banaperros-xv-anive
	rsario-producciones-tudancas
LOCATION:Rock Beer The New - C. Peñas Redondas 15\, Santander
STATUS:CONFIRMED
CATEGORIES:conciertos,conciertosCantabria,escena local,indie,post-metal,pun
	k,rock,santander
END:VEVENT
BEGIN:VEVENT
UID:168@agenda.subterrania.es
SUMMARY:Indiferente Festival
DTSTAMP:20260424T145855Z
DTSTART:20260509T110000Z
URL:https://agenda.subterrania.es/event/indiferente-festival
LOCATION:Palacio de Festivales - Calle Gamazo 3\, Santander
STATUS:CONFIRMED
CATEGORIES:conciertos,conciertosCantabria,festivales,indie,pop,santander
END:VEVENT
BEGIN:VEVENT
UID:147@agenda.subterrania.es
SUMMARY:Caballo Muerte + doctrina + Ídolos del Extrarradio: XV Aniversario 
	Producciones Tudancas
DTSTAMP:20260424T145855Z
DTSTART:20260509T183000Z
URL:https://agenda.subterrania.es/event/caballo-muerte-doctrina-idolos-del-
	extrarradio-xv-aniversario-producciones-tudancas
LOCATION:Rock Beer The New - C. Peñas Redondas 15\, Santander
STATUS:CONFIRMED
CATEGORIES:conciertos,conciertosCantabria,escena local,indie,post-punk,punk
	,rock,santander
END:VEVENT
BEGIN:VEVENT
UID:136@agenda.subterrania.es
SUMMARY:Guadalupe Plata (Sesión Vermú)
DTSTAMP:20260424T145855Z
DTSTART:20260510T110000Z
DTEND:20260510T140000Z
URL:https://agenda.subterrania.es/event/guadalupe-plata-sesion-vermu
LOCATION:Escenario Santander - Avda. De la Constitución 39\, Santander
STATUS:CONFIRMED
CATEGORIES:conciertos,conciertosCantabria,rock,santander
END:VEVENT
BEGIN:VEVENT
UID:178@agenda.subterrania.es
SUMMARY:And The Sunset Burns + Snaizer
DTSTAMP:20260424T145855Z
DTSTART:20260510T180000Z
URL:https://agenda.subterrania.es/event/and-the-sunset-burns-snaizer
LOCATION:Rock Beer The New - C. Peñas Redondas 15\, Santander
STATUS:CONFIRMED
CATEGORIES:conciertos,conciertosCantabria,escena local,post-punk,rock,santa
	nder
END:VEVENT
BEGIN:VEVENT
UID:148@agenda.subterrania.es
SUMMARY:Clean girl & The Dirty Dishes
DTSTAMP:20260424T145855Z
DTSTART:20260511T190000Z
URL:https://agenda.subterrania.es/event/clean-girl-and-the-dirty-dishes
LOCATION:Rock Beer The New - C. Peñas Redondas 15\, Santander
STATUS:CONFIRMED
CATEGORIES:conciertos,conciertosCantabria,garage,pop,santander
END:VEVENT
BEGIN:VEVENT
UID:171@agenda.subterrania.es
SUMMARY:Willie & The Bandits
DTSTAMP:20260424T145855Z
DTSTART:20260512T173000Z
URL:https://agenda.subterrania.es/event/willy-and-the-bandits
LOCATION:Escenario Santander - Avda. De la Constitución 39\, Santander
STATUS:CONFIRMED
CATEGORIES:conciertos,conciertosCantabria,rock,santander
END:VEVENT
BEGIN:VEVENT
UID:175@agenda.subterrania.es
SUMMARY:Vaca Lunar
DTSTAMP:20260424T145855Z
DTSTART:20260529T190000Z
URL:https://agenda.subterrania.es/event/vaca-lunar
LOCATION:New Moon - C. San José\, 14\, 39300 Torrelavega
STATUS:CONFIRMED
CATEGORIES:conciertos,conciertosCantabria,escena local,indie,pop,torrelaveg
	a
END:VEVENT
BEGIN:VEVENT
UID:172@agenda.subterrania.es
SUMMARY:Zack Keim
DTSTAMP:20260424T145855Z
DTSTART:20260602T190000Z
URL:https://agenda.subterrania.es/event/zack-keim
LOCATION:Sala Niágara - C/ San Simón 14\, Santander
STATUS:CONFIRMED
CATEGORIES:conciertos,conciertosCantabria,folk,indie,pop,santander
END:VEVENT
BEGIN:VEVENT
UID:137@agenda.subterrania.es
SUMMARY:Black Country\, New Road
DTSTAMP:20260424T145855Z
DTSTART:20260609T190000Z
URL:https://agenda.subterrania.es/event/black-country-new-road
LOCATION:Escenario Santander - Avda. De la Constitución 39\, Santander
STATUS:CONFIRMED
CATEGORIES:conciertos,conciertosCantabria,indie,rock,santander
END:VEVENT
BEGIN:VEVENT
UID:139@agenda.subterrania.es
SUMMARY:Pet Shop Boys. “Dreamworld - The Greatest Hits Live”
DTSTAMP:20260424T145855Z
DTSTART:20260725T203000Z
URL:https://agenda.subterrania.es/event/pet-shop-boys-dreamworld-the-greate
	st-hits-live
LOCATION:Campa de la Magdalena - Av. de la Magdalena s/n\, Santander
STATUS:CONFIRMED
CATEGORIES:conciertosCantabria,internacional,pop,santander,synthpop
END:VEVENT
BEGIN:VEVENT
UID:170@agenda.subterrania.es
SUMMARY:Nano y Los Clientes de la Noche
DTSTAMP:20260424T145855Z
DTSTART:20261227T183000Z
URL:https://agenda.subterrania.es/event/nano-y-los-clientes-de-la-noche
LOCATION:Escenario Santander - Avda. De la Constitución 39\, Santander
STATUS:CONFIRMED
CATEGORIES:conciertos,conciertosCantabria,escena local,pop,santander
END:VEVENT
END:VCALENDAR
