BEGIN:VCALENDAR
VERSION:2.0
CALSCALE:GREGORIAN
PRODID:adamgibbons/ics
METHOD:PUBLISH
X-PUBLISHED-TTL:PT1H
BEGIN:VEVENT
UID:168@agenda.subterrania.es
SUMMARY:Indiferente Festival
DTSTAMP:20260420T134424Z
DTSTART:20260509T110000Z
URL:https://agenda.subterrania.es/event/indiferente-festival
LOCATION:Palacio de Festivales - Calle Gamazo 3\, Santander
STATUS:CONFIRMED
CATEGORIES:conciertos,conciertosCantabria,festivales,indie,pop,santander
END:VEVENT
BEGIN:VEVENT
UID:140@agenda.subterrania.es
SUMMARY:Santander Music
DTSTAMP:20260420T134424Z
DTSTART:20260731T140000Z
DTEND:20260801T215900Z
URL:https://agenda.subterrania.es/event/santander-music
LOCATION:Campa de la Magdalena - Av. de la Magdalena s/n\, Santander
STATUS:CONFIRMED
CATEGORIES:festivales,indie,pop,santander
END:VEVENT
BEGIN:VEVENT
UID:141@agenda.subterrania.es
SUMMARY:Sonorama Day
DTSTAMP:20260420T134424Z
DTSTART:20260829T160000Z
URL:https://agenda.subterrania.es/event/sonorama-day
LOCATION:Campa de la Virgen del Mar - Avda. Virgen del Mar\, Santander
STATUS:CONFIRMED
CATEGORIES:conciertos,festivales,indie,internacional,pop,santander
END:VEVENT
END:VCALENDAR
